BEGIN:VCALENDAR
VERSION:2.0
PRODID:-//ChamberMaster//Event Calendar 2.0//EN
METHOD:PUBLISH
X-PUBLISHED-TTL:P1H
REFRESH-INTERVAL:P1H
CALSCALE:GREGORIAN
BEGIN:VTIMEZONE
TZID:America/New_York
BEGIN:DAYLIGHT
RRULE:FREQ=YEARLY;BYMONTH=3;BYDAY=2SU
DTSTART:20070101T000000
TZOFFSETFROM:-0500
TZOFFSETTO:-0400
TZNAME:Eastern Daylight Time
END:DAYLIGHT
BEGIN:STANDARD
RRULE:FREQ=YEARLY;BYMONTH=11;BYDAY=1SU
DTSTART:20070101T000000
TZOFFSETFROM:-0400
TZOFFSETTO:-0500
TZNAME:Eastern Standard Time
END:STANDARD
END:VTIMEZONE
BEGIN:VEVENT
DTSTART;TZID=America/New_York:20260429T160000
DTEND;TZID=America/New_York:20260429T160100
X-MICROSOFT-CDO-ALLDAYEVENT:FALSE
SUMMARY:Community Conversations
DESCRIPTION:Community Conversations monthly\, small-group conversation for angel investors focused on smart investing practices. Led by experienced ACA members\, each session builds on Angel University learnings and provides an interactive space to ask questions\, share insights\, and connect with peers across the angel community. Even if you have not yet experienced Angel University courses\, connecting with ACA member experts will support your investing knowledge and network engagement. While there is no fee for these monthly sessions\, all registrants are expected to attend live to fully engage. Sessions are kept small to enhance active and meaningful discussion. Register now at https://angelcapital.swoogo.com/ohapril26/begin
X-ALT-DESC;FMTTYPE=text/html:<!DOCTYPE html><html><head><title></title></head><body aria-disabled="false"><p>Community Conversations monthly\, small-group conversation for angel investors focused on smart investing practices. Led by experienced ACA members\, each session builds on Angel University learnings and provides an interactive space to ask questions\, share insights\, and connect with peers across the angel community. Even if you have not yet experienced Angel University courses\, connecting with ACA member experts will support your investing knowledge and network engagement. While there is no fee for these monthly sessions\, all registrants are expected to attend live to fully engage. Sessions are kept small to enhance active and meaningful discussion. Register now at <a fr-original-style="" href="https://angelcapital.swoogo.com/ohapril26/begin" rel="noopener noreferrer" style="user-select: auto\;" target="_blank">https://angelcapital.swoogo.com/ohapril26/begin</a></p></body></html>
LOCATION:
UID:e.3704.1436678
SEQUENCE:3
DTSTAMP:20260420T091929Z
URL:https://angelcapitalassociation.growthzoneapp.com/eventcalendarmembers/Details/community-conversations-1700698?sourceTypeId=Hub
END:VEVENT
END:VCALENDAR
